BEGIN:VCALENDAR
VERSION:2.0
PRODID:-//Tukios.com/
BEGIN:VEVENT
UID:4d89c81d-37df-4d20-b58e-b42a92304520@www.farleyfh.com
DTSTAMP:20260421T212332Z
DTSTART:20260427T200000Z
DTEND:20260427T230000Z
SUMMARY:Visitation
DESCRIPTION:
URL:https://www.farleyfh.com/obituaries/ellen-conrad
LOCATION:Farley Funeral Home 358 Park Street  Stoughton MA 02072
GEO:42.1205289;-71.0897499
END:VEVENT
END:VCALENDAR