BEGIN:VCALENDAR
VERSION:2.0
PRODID:-//Tukios.com/
BEGIN:VEVENT
UID:52715ad6-f51d-4951-b363-bb70913b0b6d@www.farleyfh.com
DTSTAMP:20260421T211744Z
DTSTART:20260428T143000Z
DTEND:20260428T153000Z
SUMMARY:Funeral Service
DESCRIPTION:
URL:https://www.farleyfh.com/obituaries/ellen-conrad
LOCATION:Holy Cross Church 225 Purchase St  Easton MA 02375
GEO:42.0256394;-71.0839004
END:VEVENT
END:VCALENDAR