BEGIN:VCALENDAR
VERSION:2.0
PRODID:-//Tukios.com/
BEGIN:VEVENT
UID:c2b1272f-cab2-4697-a304-7dc097ea62b5@www.farleyfh.com
DTSTAMP:20260421T230015Z
DTSTART:20260428T200000Z
DTEND:20260428T230000Z
SUMMARY:Visitation
DESCRIPTION:
URL:https://www.farleyfh.com/obituaries/james-deloughrey
LOCATION:Farley Funeral Home 358 Park Street  Stoughton MA 02072
GEO:42.1205289;-71.0897499
END:VEVENT
END:VCALENDAR