BEGIN:VCALENDAR
VERSION:2.0
PRODID:-//Tukios.com/
BEGIN:VEVENT
UID:64ae1f59-93b9-4b90-9c6e-5e60af2bf159@www.farleyfh.com
DTSTAMP:20260421T230924Z
DTSTART:20260429T143000Z
DTEND:20260429T153000Z
SUMMARY:Mass
DESCRIPTION:
URL:https://www.farleyfh.com/obituaries/james-deloughrey
LOCATION:Immaculate Conception Church 122 Canton St  Stoughton MA 02072
GEO:42.1253009;-71.1081335
END:VEVENT
END:VCALENDAR