BEGIN:VCALENDAR
VERSION:2.0
PRODID:-//Tukios.com/
BEGIN:VEVENT
UID:1943b400-f32f-4440-af0a-452f5f532bcd@www.farleyfh.com
DTSTAMP:20260421T230202Z
DTSTART:20260429
SUMMARY:Burial
DESCRIPTION:
URL:https://www.farleyfh.com/obituaries/james-deloughrey
LOCATION: 1100 Central St  Stoughton MA 02072
GEO:42.1347502;-71.1047243
END:VEVENT
END:VCALENDAR