BEGIN:VCALENDAR
VERSION:2.0
PRODID:-//Tukios.com/
BEGIN:VEVENT
UID:30728c91-8f52-4888-9716-690b7f86a8fd@www.farleyfh.com
DTSTAMP:20260421T175713Z
DTSTART:20260427T210000Z
DTEND:20260427T230000Z
SUMMARY:Visitation
DESCRIPTION:
URL:https://www.farleyfh.com/obituaries/john-langille
LOCATION: 358 Park Street  Stoughton MA 02072
GEO:42.1205289;-71.0897499
END:VEVENT
END:VCALENDAR