BEGIN:VCALENDAR
VERSION:2.0
PRODID:-//Tukios.com/
BEGIN:VEVENT
UID:e5a500a2-92ef-4794-80b5-76a5ae3cfba5@www.farleyfh.com
DTSTAMP:20260421T180052Z
DTSTART:20260427T230000Z
DTEND:20260428T000000Z
SUMMARY:Funeral Service
DESCRIPTION:
URL:https://www.farleyfh.com/obituaries/john-langille
LOCATION:Farley Funeral Home 358 Park Street  Stoughton MA 02072
GEO:42.1205289;-71.0897499
END:VEVENT
END:VCALENDAR